Workbook
Name _Grafik_Direktmandate: Landesergebnis!$I$38:$M$39
Name _Grafik_Direktmandate: 'Urne-Brief'!$J$48:$N$51
Name _Grafik_Direktmandate: 'Zweitstimmen im ZV'!$L$29:$P$40
Name _Grafik_Direktmandate: 'Erststimmen im ZV'!$L$29:$P$40
Name _Grafik_Sitzverteilung: 'Vorläufiges Ergebnis'!$I$3:$J$14
Name _Grafik_Sitzverteilung: Wahlkreiseinteilung!#REF!
Name _Grafik_Sitzverteilung: #REF!
Name _GrafikDaten_AfD: #REF!
Name _GrafikDaten_Ausschöpfungsquote: #REF!
Name _GrafikDaten_Briefwahlanteil: 'Wahlbeteiligung MV'!$I$29:$K$39
Name _GrafikDaten_BSW: #REF!
Name _GrafikDaten_CDU: #REF!
Name _GrafikDaten_Die_Linke: #REF!
Name _GrafikDaten_FDP: #REF!
Name _GrafikDaten_Gewinne_Verluste: #REF!
Name _GrafikDaten_GRÜNE: #REF!
Name _GrafikDaten_SPD: #REF!
Name _GrafikDaten_WahlbeteiligungBL: AfD!$J$3:$K$52
Name _GrafikDaten_WahlbeteiligungBL: BSW!$J$3:$K$54
Name _GrafikDaten_WahlbeteiligungBL: CDU!$J$3:$K$57
Name _GrafikDaten_WahlbeteiligungBL: 'Die Linke'!$J$3:$K$56
Name _GrafikDaten_WahlbeteiligungBL: FDP!$J$3:$K$57
Name _GrafikDaten_WahlbeteiligungBL: GRÜNE!$J$3:$K$57
Name _GrafikDaten_WahlbeteiligungBL: SPD!$J$3:$K$57
Name _GrafikDaten_WahlbeteiligungBL: 'Wahlbeteiligung BL'!#REF!
Name _GrafikDaten_WahlbeteiligungBL: #REF!
Name _GrafikDaten_WahlbeteiligungBundesländer: AfD!$J$3:$K$52
Name _GrafikDaten_WahlbeteiligungBundesländer: BSW!$J$3:$K$54
Name _GrafikDaten_WahlbeteiligungBundesländer: CDU!$J$3:$K$57
Name _GrafikDaten_WahlbeteiligungBundesländer: 'Die Linke'!$J$3:$K$56
Name _GrafikDaten_WahlbeteiligungBundesländer: FDP!$J$3:$K$57
Name _GrafikDaten_WahlbeteiligungBundesländer: GRÜNE!$J$3:$K$57
Name _GrafikDaten_WahlbeteiligungBundesländer: SPD!$J$3:$K$57
Name _GrafikDaten_WahlbeteiligungBundesländer: 'Wahlbeteiligung BL'!#REF!
Name _GrafikDaten_WahlbeteiligungBundesländer: #REF!
Name _GrafikDaten_WahlbeteiligungMV: 'Wahlbeteiligung MV'!$I$42:$J$53
Name _GrafikDaten_ZweitstimmenanteilDeutschland: #REF!

Sheet Vorläufiges Ergebnis
A1: Landtagswahlen in Mecklenburg-Vorpommern
A2: Vorläufiges Ergebnis (Korrigierte Ausgabe vom 22.09.2026)
A3: Vorläufige Sitzverteilung im 9. Landtag von Mecklenburg-Vorpommern nach der Landtagswahl am 20. September 2026 sowie Gewinne und Verluste der Parteien gegenüber 2021 | I3: Daten der Grafik: Sitzverteilung im Landtag Mecklenburg-Vorpommern 2026 (vorläufiges Ergebnis)
I4: Partei | J4: Sitze
I5: =A22 -> SPD | J5: =B22 -> 29
I6: =A23 -> AfD | J6: =B23 -> 32
I7: =A24 -> CDU | J7: =B24 -> -
I8: =A25 -> Die Linke 1) | J8: =B25 -> 5
I9: =A26 -> GRÜNE | J9: =B26 -> 5
I10: =A27 -> FDP | J10: =B27 -> -
I11: =A28 -> BSW | J11: =B28 -> -
I12: =A21 -> Insgesamt | J12: =B21 -> 71
I16: Daten der Grafik: Gewinne/Verluste der Parteien bei der Landtagswahl 2026 gegenüber 2021 (vorläufiges Ergebnis)
I17: Partei | J17: %
I18: SPD | J18: ='Zweitstimmen im ZV'!J17-'Zweitstimmen im ZV'!I17 -> -4.1045961
A19: Sitzverteilung nach der Landtagswahl 2026 (vorläufiges Ergebnis) im Vergleich zu 2021 | I19: AfD | J19: ='Zweitstimmen im ZV'!J18-'Zweitstimmen im ZV'!I18 -> 21.517001
A20: Partei | B20: Landtagswahl 2026 (vorläufiges Ergebnis) Sitze insgesamt davon... | C20: ...Direktmandate | D20: …nach Landesliste | E20: Landtagswahl 2021 Sitze insgesamt davon... | F20: ...Direktmandate | G20: …nach Landesliste | I20: CDU | J20: ='Zweitstimmen im ZV'!J19-'Zweitstimmen im ZV'!I19 -> -8.4119988
A21: Insgesamt | B21: 71 | C21: 36 | D21: 35 | E21: 79 | F21: 36 | G21: 43 | I21: Die Linke 1) | J21: ='Zweitstimmen im ZV'!J20-'Zweitstimmen im ZV'!I20 -> -3.3613911
A22: SPD | B22: 29 | C22: 14 | D22: 15 | E22: 34 | F22: 34 | G22: - | I22: GRÜNE | J22: ='Zweitstimmen im ZV'!J21-'Zweitstimmen im ZV'!I21 -> -0.62820886
A23: AfD | B23: 32 | C23: 22 | D23: 10 | E23: 14 | F23: 1 | G23: 13 | I23: FDP | J23: ='Zweitstimmen im ZV'!J22-'Zweitstimmen im ZV'!I22 -> -4.7742181
A24: CDU | B24: - | C24: - | D24: - | E24: 12 | F24: 1 | G24: 11 | I24: BSW | J24: ='Zweitstimmen im ZV'!J23 -> 4.8295961
A25: Die Linke 1) | B25: 5 | C25: - | D25: 5 | E25: 9 | F25: - | G25: 9 | I25: Sonstige | J25: ='Zweitstimmen im ZV'!J24-'Zweitstimmen im ZV'!I24 -> -5.0661841
A26: GRÜNE | B26: 5 | C26: - | D26: 5 | E26: 5 | F26: - | G26: 5
A27: FDP | B27: - | C27: - | D27: - | E27: 5 | F27: - | G27: 5
A28: BSW | B28: - | C28: - | D28: - | E28: x | F28: x | G28: x
A29: 1) 2021 DIE LINKE.
A31: Stimmenverteilung nach Erst- und Zweitstimmen im Landesdurchschnitt 2026 (vorläufiges Ergebnis) im Vergleich zu 2021 | I31: Daten der Grafik Stimmenverteilung nach Erst- und Zweitstimmen im Landesdurchschnitt 2026 im Vergleich zu 2021
I32: Partei | J32: Erststimmen 2026 (vorläufig) | K32: Erstimmen 2021 | L32: Zweitstimmen 2026 (vorläufig) | M32: Zweitstimmen 2021
I33: SPD | J33: ='Erststimmen im ZV'!J17 -> 37.379822 | K33: ='Erststimmen im ZV'!I17 -> 34.4 | L33: ='Zweitstimmen im ZV'!J17 -> 35.495404 | M33: ='Zweitstimmen im ZV'!I17 -> 39.6
I34: AfD | J34: ='Erststimmen im ZV'!J18 -> 39.508267 | K34: ='Erststimmen im ZV'!I18 -> 18 | L34: ='Zweitstimmen im ZV'!J18 -> 38.217001 | M34: ='Zweitstimmen im ZV'!I18 -> 16.7
I35: CDU | J35: ='Erststimmen im ZV'!J19 -> 6.2421494 | K35: ='Erststimmen im ZV'!I19 -> 17.3 | L35: ='Zweitstimmen im ZV'!J19 -> 4.8880012 | M35: ='Zweitstimmen im ZV'!I19 -> 13.3
I36: Die Linke 1) | J36: ='Erststimmen im ZV'!J20 -> 7.7899481 | K36: ='Erststimmen im ZV'!I20 -> 11.7 | L36: ='Zweitstimmen im ZV'!J20 -> 6.5386089 | M36: ='Zweitstimmen im ZV'!I20 -> 9.9
I37: GRÜNE | J37: ='Erststimmen im ZV'!J21 -> 2.8071502 | K37: ='Erststimmen im ZV'!I21 -> 6.5 | L37: ='Zweitstimmen im ZV'!J21 -> 5.6717911 | M37: ='Zweitstimmen im ZV'!I21 -> 6.3
I38: FDP | J38: ='Erststimmen im ZV'!J22 -> 1.5247901 | K38: ='Erststimmen im ZV'!I22 -> 6.3 | L38: ='Zweitstimmen im ZV'!J22 -> 1.0257819 | M38: ='Zweitstimmen im ZV'!I22 -> 5.8
I39: BSW | J39: ='Erststimmen im ZV'!J23 -> 3.999056 | K39: x | L39: ='Zweitstimmen im ZV'!J23 -> 4.8295961 | M39: x
I40: Sonstige | J40: ='Erststimmen im ZV'!J24 -> 0.74881698 | K40: ='Erststimmen im ZV'!I24 -> 5.8 | L40: ='Zweitstimmen im ZV'!J24 -> 3.3338159 | M40: ='Zweitstimmen im ZV'!I24 -> 8.4
B51: Diese Ergebnisse finden Sie als Kurzbericht im PDF- und XLSX-Format
B52: auf den Internetseiten des Statistischen Amtes Mecklenburg-Vorpommern.

Sheet Erststimmen im ZV
A1: Landtagswahlen in Mecklenburg-Vorpommern
A2: Anzahl der gültigen Stimmen ab 1990 – Erststimmen –
A3: Partei | B3: 02.12. 1990 4) | C3: 16.10. 1994 | D3: 27.09. 1998 | E3: 22.09. 2002 | F3: 17.09. 2006 | G3: 04.09. 2011 5) | H3: 04.09. 2016 | I3: 26.09. 2021 | J3: 20.09. 2026 (vorläufig)
A4: Insgesamt | B4: 885628 | C4: 975055 | D4: 1073996 | E4: 965636 | F4: 816088 | G4: 680684 | H4: 803148 | I4: 910169 | J4: 1012664
A5: SPD | B5: 223229 | C5: 292714 | D5: 392774 | E5: 388054 | F5: 245370 | G5: 240368 | H5: 236319 | I5: 313224 | J5: 378532
A6: AfD | B6: x | C6: x | D6: x | E6: x | F6: x | G6: x | H6: 175850 | I6: 163962 | J6: 400086
A7: CDU | B7: 346125 | C7: 385260 | D7: 346581 | E7: 316511 | F7: 252888 | G7: 181988 | H7: 175057 | I7: 157403 | J7: 63212
A8: Die Linke 1) | B8: 143782 | C8: 231353 | D8: 273681 | E8: 173330 | F8: 146772 | G8: 126960 | H8: 119374 | I8: 106189 | J8: 78886
A9: GRÜNE 2) | B9: 41809 | C9: 29181 | D9: 22954 | E9: 16986 | F9: 26991 | G9: 56006 | H9: 38613 | I9: 59544 | J9: 28427
A10: FDP 3) | B10: 48284 | C10: 31757 | D10: 20403 | E10: 51851 | F10: 70423 | G10: 22054 | H10: 26910 | I10: 56951 | J10: 15441
A11: BSW | B11: x | C11: x | D11: x | E11: x | F11: x | G11: x | H11: x | I11: x | J11: 40497
A12: Sonstige | B12: =B4-SUM(B5:B11) -> 82399 | C12: =C4-SUM(C5:C11) -> 4790 | D12: =D4-SUM(D5:D11) -> 17603 | E12: =E4-SUM(E5:E11) -> 18904 | F12: =F4-SUM(F5:F11) -> 73644 | G12: =G4-SUM(G5:G11) -> 53308 | H12: =H4-SUM(H5:H11) -> 31025 | I12: =I4-SUM(I5:I11) -> 52896 | J12: =J4-SUM(J5:J11) -> 7583
A14: Anteil der Stimmen ab 1990 – Erststimmen –
A15: Partei | B15: 02.12. 1990 4) | C15: 16.10. 1994 | D15: 27.09. 1998 | E15: 22.09. 2002 | F15: 17.09. 2006 | G15: 04.09. 2011 5) | H15: 04.09. 2016 | I15: 26.09. 2021 | J15: 20.09. 2026 (vorläufig)
A16: Insgesamt | B16: 100 | C16: 100 | D16: 100 | E16: 100 | F16: 100 | G16: 100 | H16: 100 | I16: 100 | J16: 100
A17: SPD | B17: 25.2 | C17: 30 | D17: 36.6 | E17: 40.2 | F17: 30.1 | G17: 35.3 | H17: 29.4 | I17: 34.4 | J17: =J5*100/$J$4 -> 37.379822
A18: AfD | B18: x | C18: x | D18: x | E18: x | F18: x | G18: x | H18: 21.9 | I18: 18 | J18: =J6*100/$J$4 -> 39.508267
A19: CDU | B19: 39.1 | C19: 39.5 | D19: 32.3 | E19: 32.8 | F19: 31 | G19: 26.7 | H19: 21.8 | I19: 17.3 | J19: =J7*100/$J$4 -> 6.2421494
A20: Die Linke 1) | B20: 16.2 | C20: 23.7 | D20: 25.5 | E20: 17.9 | F20: 18 | G20: 18.7 | H20: 14.9 | I20: 11.7 | J20: =J8*100/$J$4 -> 7.7899481
A21: GRÜNE 2) | B21: 4.7 | C21: 3 | D21: 2.1 | E21: 1.8 | F21: 3.3 | G21: 8.2 | H21: 4.8 | I21: 6.5 | J21: =J9*100/$J$4 -> 2.8071502
A22: FDP 3) | B22: 5.5 | C22: 3.3 | D22: 1.9 | E22: 5.4 | F22: 8.6 | G22: 3.2 | H22: 3.4 | I22: 6.3 | J22: =J10*100/$J$4 -> 1.5247901
A23: BSW | B23: x | C23: x | D23: x | E23: x | F23: x | G23: x | H23: x | I23: x | J23: =J11*100/$J$4 -> 3.999056
A24: Sonstige | B24: =B16-SUM(B17:B23) -> 9.3 | C24: =C16-SUM(C17:C23) -> 0.5 | D24: =D16-SUM(D17:D23) -> 1.6 | E24: =E16-SUM(E17:E23) -> 1.9 | F24: =F16-SUM(F17:F23) -> 9 | G24: =G16-SUM(G17:G23) -> 7.9 | H24: =H16-SUM(H17:H23) -> 3.8 | I24: =I16-SUM(I17:I23) -> 5.8 | J24: =J16-SUM(J17:J23) -> 0.74881698
A25: 1) Bis Juli 2005 PDS, bis Juni 2007 Die Linke., bis Oktober 2024 DIE LINKE. – 2) 1990 einschließlich Listenvereinigung B90/Gr. – 3) Bis Mai 2002 F.D.P.
A26: 4) Gebietsstand 1994, d. h. unter Berücksichtigung der Staatsverträge mit den Bundesländern Brandenburg und Niedersachsen.
A27: 5) Einschließlich Nachwahl im Wahlkreis 33 – Rügen I am 18. September 2011.
L29: Daten der Grafik: Direktmandate im Landtag Mecklenburg-Vorpommern seit 1990
L30: Jahr | M30: SPD | N30: AfD | O30: CDU | P30: Die Linke 1)
L31: 1990 | M31: 4 | N31: x | O31: 29 | P31: -
L32: 1994 | M32: 7 | N32: x | O32: 28 | P32: 1
L33: 1998 | M33: 20 | N33: x | O33: 14 | P33: 2
L34: 2002 | M34: 24 | N34: x | O34: 12 | P34: -
L35: 2006 | M35: 15 | N35: x | O35: 20 | P35: 1
L36: 2011 | M36: 24 | N36: x | O36: 12 | P36: -
L37: 2016 | M37: 26 | N37: 3 | O37: 7 | P37: -
L38: 2021 | M38: 34 | N38: 1 | O38: 1 | P38: -
L39: 2026 (vorläufig) | M39: 14 | N39: 22 | O39: - | P39: -

Sheet Zweitstimmen im ZV
A1: Landtagswahlen in Mecklenburg-Vorpommern
A2: Anzahl der gültigen Stimmen ab 1990 – Zweitstimmen –
A3: Partei | B3: 02.12. 1990 4) | C3: 16.10. 1994 | D3: 27.09. 1998 | E3: 22.09. 2002 | F3: 17.09. 2006 | G3: 04.09. 2011 5) | H3: 04.09. 2016 | I3: 26.09. 2021 | J3: 20.09. 2026 (vorläufig)
A4: Insgesamt | B4: 888425 | C4: 977867 | D4: 1084611 | E4: 970031 | F4: 818061 | G4: 681375 | H4: 806419 | I4: 913863 | J4: 1015323
A5: SPD | B5: 239872 | C5: 288431 | D5: 371885 | E5: 394118 | F5: 247312 | G5: 242251 | H5: 246395 | I5: 361769 | J5: 360393
A6: AfD | B6: x | C6: x | D6: x | E6: x | F6: x | G6: x | H6: 167852 | I6: 152775 | J6: 388026
A7: CDU | B7: 340134 | C7: 368206 | D7: 327948 | E7: 304125 | F7: 235350 | G7: 156969 | H7: 153115 | I7: 121583 | J7: 49629
A8: Die Linke 1) | B8: 139612 | C8: 221814 | D8: 264299 | E8: 159065 | F8: 137253 | G8: 125528 | H8: 106256 | I8: 90881 | J8: 66388
A9: GRÜNE 2) | B9: 37126 | C9: 36035 | D9: 29240 | E9: 25402 | F9: 27642 | G9: 59004 | H9: 38836 | I9: 57554 | J9: 57587
A10: FDP 3) | B10: 48669 | C10: 37498 | D10: 17062 | E10: 45676 | F10: 78440 | G10: 18943 | H10: 24521 | I10: 52963 | J10: 10415
A11: BSW | B11: x | C11: x | D11: x | E11: x | F11: x | G11: x | H11: x | I11: x | J11: 49036
A12: Sonstige | B12: =B4-SUM(B5:B11) -> 83012 | C12: =C4-SUM(C5:C11) -> 25883 | D12: =D4-SUM(D5:D11) -> 74177 | E12: =E4-SUM(E5:E11) -> 41645 | F12: =F4-SUM(F5:F11) -> 92064 | G12: =G4-SUM(G5:G11) -> 78680 | H12: =H4-SUM(H5:H11) -> 69444 | I12: =I4-SUM(I5:I11) -> 76338 | J12: =J4-SUM(J5:J11) -> 33849
A14: Anteil der Stimmen ab 1990 – Zweitstimmen –
A15: Partei | B15: 02.12. 1990 4) | C15: 16.10. 1994 | D15: 27.09. 1998 | E15: 22.09. 2002 | F15: 17.09. 2006 | G15: 04.09. 2011 5) | H15: 04.09. 2016 | I15: 26.09. 2021 | J15: 20.09. 2026 (vorläufig)
A16: Insgesamt | B16: 100 | C16: 100 | D16: 100 | E16: 100 | F16: 100 | G16: 100 | H16: 100 | I16: 100 | J16: 100
A17: SPD | B17: 27 | C17: 29.5 | D17: 34.3 | E17: 40.6 | F17: 30.2 | G17: 35.6 | H17: 30.6 | I17: 39.6 | J17: =J5*100/$J$4 -> 35.495404
A18: AfD | B18: x | C18: x | D18: x | E18: x | F18: x | G18: x | H18: 20.8 | I18: 16.7 | J18: =J6*100/$J$4 -> 38.217001
A19: CDU | B19: 38.3 | C19: 37.7 | D19: 30.2 | E19: 31.4 | F19: 28.8 | G19: 23 | H19: 19 | I19: 13.3 | J19: =J7*100/$J$4 -> 4.8880012
A20: Die Linke 1) | B20: 15.7 | C20: 22.7 | D20: 24.4 | E20: 16.4 | F20: 16.8 | G20: 18.4 | H20: 13.2 | I20: 9.9 | J20: =J8*100/$J$4 -> 6.5386089
A21: GRÜNE 2) | B21: 4.2 | C21: 3.7 | D21: 2.7 | E21: 2.6 | F21: 3.4 | G21: 8.7 | H21: 4.8 | I21: 6.3 | J21: =J9*100/$J$4 -> 5.6717911
A22: FDP 3) | B22: 5.5 | C22: 3.8 | D22: 1.6 | E22: 4.7 | F22: 9.6 | G22: 2.8 | H22: 3 | I22: 5.8 | J22: =J10*100/$J$4 -> 1.0257819
A23: BSW | B23: x | C23: x | D23: x | E23: x | F23: x | G23: x | H23: x | I23: x | J23: =J11*100/$J$4 -> 4.8295961
A24: Sonstige | B24: 9.3 | C24: 2.6 | D24: 6.8 | E24: 4.3 | F24: 11.3 | G24: 11.5 | H24: 8.6 | I24: 8.4 | J24: =J16-SUM(J17:J23) -> 3.3338159
A25: 1) Bis Juli 2005 PDS, bis Juni 2007 Die Linke., bis Oktober 2024 DIE LINKE. – 2) 1990 einschließlich Listenvereinigung B90/Gr. – 3) Bis Mai 2002 F.D.P.
A26: 4) Gebietsstand 1994, d. h. unter Berücksichtigung der Staatsverträge mit den Bundesländern Brandenburg und Niedersachsen.
A27: 5) Einschließlich Nachwahl im Wahlkreis 33 – Rügen I am 18. September 2011.
L29: Daten der Grafik: Zweitstimmenanteile der Parteien bei den Landtagswahlen seit 1990
L30: Wahltag | M30: SPD | N30: AfD | O30: CDU | P30: Die Linke 1) | Q30: GRÜNE 2) | R30: FDP 3) | S30: BSW | T30: Sonstige
L31: 33160 | M31: 27 | N31: x | O31: 38.3 | P31: 15.7 | Q31: 5.5 | R31: 4.2 | S31: x | T31: 9.3
L32: 34623 | M32: 29.5 | N32: x | O32: 37.7 | P32: 22.7 | Q32: 3.8 | R32: 3.7 | S32: x | T32: 2.6
L33: 36065 | M33: 34.3 | N33: x | O33: 30.2 | P33: 24.4 | Q33: 1.6 | R33: 2.7 | S33: x | T33: 6.8
L34: 37521 | M34: 40.6 | N34: x | O34: 31.4 | P34: 16.4 | Q34: 4.7 | R34: 2.6 | S34: x | T34: 4.3
L35: 38977 | M35: 30.2 | N35: x | O35: 28.8 | P35: 16.8 | Q35: 9.6 | R35: 3.4 | S35: x | T35: 11.3
L36: 40790 | M36: 35.6 | N36: x | O36: 23 | P36: 18.4 | Q36: 2.8 | R36: 8.7 | S36: x | T36: 11.5
L37: 42617 | M37: 30.6 | N37: 20.8 | O37: 19 | P37: 13.2 | Q37: 3 | R37: 4.8 | S37: x | T37: 8.6
L38: 44465 | M38: 39.6 | N38: 16.7 | O38: 13.3 | P38: 9.9 | Q38: 5.8 | R38: 6.3 | S38: x | T38: 8.4
L39: 46285 | M39: =J17 -> 35.495404 | N39: =J18 -> 38.217001 | O39: =J19 -> 4.8880012 | P39: =J20 -> 6.5386089 | Q39: =J21 -> 5.6717911 | R39: =J22 -> 1.0257819 | S39: =J23 -> 4.8295961 | T39: =J24 -> 3.3338159

Sheet Landesergebnis
A1: Landtagswahlen in Mecklenburg-Vorpommern
A2: Landesergebnis 2026 (vorläufiges Ergebnis)
A3: Wahlberechtigte: | B3: 1311294 | D3: Wahlbeteiligung: | F3: =B4*100/B3 -> 78.109943
A4: Wählerinnen und Wähler: | B4: 1024251
A5: dar. Briefwähler/innen: | B5: 286560
A6: Partei | B6: Wahlkreis (Erststimmen) Anzahl | C6: Wahlkreis (Erststimmen) Anteil in % | D6: Wahlkreis (Erststimmen) Mandate | E6: Landesliste (Zweitstimmen) Anzahl | F6: Landesliste (Zweitstimmen) Anteil in % | G6: Landesliste (Zweitstimmen) Mandate
A7: Ungültige Zweitstimmen | B7: 11587 | C7: 1.1 | D7: x | E7: 8928 | F7: 0.9 | G7: x
A8: Gültige Stimmen | B8: 1012664 | C8: 98.9 | D8: 36 | E8: 1015323 | F8: 99.1 | G8: 35
A9: davon entfallen auf
A10: SPD | B10: 378532 | C10: 37.4 | D10: 14 | E10: 360393 | F10: 35.5 | G10: 15
A11: AfD | B11: 400086 | C11: 39.5 | D11: 22 | E11: 388026 | F11: 38.2 | G11: 10
A12: CDU | B12: 63212 | C12: 6.2 | D12: - | E12: 49629 | F12: 4.9 | G12: -
A13: Die Linke | B13: 78886 | C13: 7.8 | D13: - | E13: 66388 | F13: 6.5 | G13: 5
A14: GRÜNE | B14: 28427 | C14: 2.8 | D14: - | E14: 57587 | F14: 5.7 | G14: 5
A15: FDP | B15: 15441 | C15: 1.5 | D15: - | E15: 10415 | F15: 1 | G15: -
A16: Tierschutzpartei | B16: x | C16: x | D16: x | E16: 11131 | F16: 1.1 | G16: -
A17: FREIE WÄHLER | B17: 2199 | C17: 0.2 | D17: - | E17: 3823 | F17: 0.4 | G17: -
A18: Die PARTEI | B18: 446 | C18: 0 | D18: - | E18: 2760 | F18: 0.3 | G18: -
A19: PIRATEN | B19: x | C19: x | D19: x | E19: 2003 | F19: 0.2 | G19: -
A20: ÖDP | B20: x | C20: x | D20: x | E20: 981 | F20: 0.1 | G20: -
A21: Bündnis C | B21: x | C21: x | D21: x | E21: 892 | F21: 0.1 | G21: -
A22: BSW | B22: 40497 | C22: 4 | D22: - | E22: 49036 | F22: 4.8 | G22: -
A23: Handwerker Partei Deutschland 1) | B23: x | C23: x | D23: x | E23: 4798 | F23: 0.5 | G23: -
A24: KPD | B24: x | C24: x | D24: x | E24: 818 | F24: 0.1 | G24: -
A25: PdF | B25: x | C25: x | D25: x | E25: 940 | F25: 0.1 | G25: -
A26: Team Freiheit | B26: 653 | C26: 0.1 | D26: - | E26: 2545 | F26: 0.3 | G26: -
A27: Volt | B27: 715 | C27: 0.1 | D27: - | E27: 1909 | F27: 0.2 | G27: -
A28: WLD | B28: 591 | C28: 0.1 | D28: - | E28: 1249 | F28: 0.1 | G28: -
A30: Walter, Henning (LfK) | B30: 99 | C30: 0 | D30: - | E30: x | F30: x | G30: x
A32: Frost, Thomas (Einzelbewerber) | B32: 310 | C32: 0 | D32: - | E32: x | F32: x | G32: x
A33: Gens, Thomas (Einzelbewerber) | B33: 1232 | C33: 0.1 | D33: - | E33: x | F33: x | G33: x
A34: Rödel, Nico (Einzelbewerber) | B34: 744 | C34: 0.1 | D34: - | E34: x | F34: x | G34: x
A35: Weckert, Sandra (Einzelbewerberin) | B35: 160 | C35: 0 | D35: - | E35: x | F35: x | G35: x
A36: Wippermann, Susann (Einzelbewerberin) | B36: 434 | C36: 0 | D36: - | E36: x | F36: x | G36: x
A38: 1) Partei führt keine Kurzbezeichnung. | I38: Daten der Grafik: Anteil der Wahlberechtigten mit und ohne Einfluss auf die Mandatsverteilung zur Landtagswahl (Basis: Zweitstimmen)
I39: Merkmal | J39: 2026 absolut | K39: 2026 in % | L39: 2021 absolut | M39: 2021 in %
A40: Anteil der Wahlberechtigten mit und ohne Einfluss auf die Mandatsverteilung zur Landtagswahl Basis: Zweitstimmen | I40: Wahlberechtigte | J40: =B3 -> 1311294 | K40: 100 | L40: 1312471 | M40: 100
I41: Nichtwählerinnen und -wähler | J41: =B3-B4 -> 287043 | K41: =J41*100/J40 -> 21.890057 | L41: 383664 | M41: =L41*100/L40 -> 29.232189
I42: Wählerinnen und Wähler | J42: =B4 -> 1024251 | K42: 0 | L42: 928807 | M42: 0
I43: Ungültige Stimmen | J43: =E7 -> 8928 | K43: =J43*100/J40 -> 0.68085418 | L43: 14944 | M43: =L43*100/L40 -> 1.1386156
...

Sheet Urne-Brief
A1: Landtagswahlen in Mecklenburg-Vorpommern
A2: Vorläufiges Ergebnis der Landtagswahl 2026 nach Urnen- und Briefwahl im Vergleich zu 2021
A3: Wahlkreis (Erststimmen)
A4: Partei | B4: Einheit | C4: Landtagswahl 2026 (vorläufiges Ergebnis) insgesamt davon... | D4: ...Urnenwahl | E4: ...Briefwahl | F4: Landtagswahl 2021 insgesamt davon... | G4: …Urnenwahl | H4: …Briefwahl
A5: Wählerinnen und Wähler | B5: Anzahl | C5: 1024251 | D5: 737691 | E5: 286560 | F5: 928807 | G5: 608912 | H5: 319895
B6: % | C6: 78.1 | D6: =D5/C5*100 -> 72.022483 | E6: =E5/C5*100 -> 27.977517 | F6: 70.8 | G6: 65.6 | H6: 34.4
A7: Ungültige Stimmen | B7: % | C7: 1.1 | D7: 1.2 | E7: 0.9 | F7: 2 | G7: 2.5 | H7: 1.1
A8: Gültige Stimmen | B8: % | C8: 98.9 | D8: 98.8 | E8: 99.1 | F8: 98 | G8: 97.5 | H8: 98.9
A9: davon entfallen auf
A10: SPD | B10: % | C10: 37.4 | D10: 34.7 | E10: 44.2 | F10: 34.4 | G10: 34.4 | H10: 34.4
A11: AfD | B11: % | C11: 39.5 | D11: 46 | E11: 22.9 | F11: 18 | G11: 21.5 | H11: 11.5
A12: CDU | B12: % | C12: 6.2 | D12: 4.8 | E12: 9.8 | F12: 17.3 | G12: 16.6 | H12: 18.5
A13: Die Linke 1) | B13: % | C13: 7.8 | D13: 6.6 | E13: 10.7 | F13: 11.7 | G13: 10.6 | H13: 13.7
A14: GRÜNE | B14: % | C14: 2.8 | D14: 2.2 | E14: 4.4 | F14: 6.5 | G14: 5.4 | H14: 8.7
A15: FDP | B15: % | C15: 1.5 | D15: 1.3 | E15: 2.1 | F15: 6.3 | G15: 6.1 | H15: 6.6
A16: BSW | B16: % | C16: 4 | D16: 3.7 | E16: 4.7 | F16: x | G16: x | H16: x
A17: Sonstige | B17: % | C17: =100-SUM(C10:C16) -> 0.8 | D17: =100-SUM(D10:D16) -> 0.7 | E17: =100-SUM(E10:E16) -> 1.2 | F17: 3.8 | G17: 2.9 | H17: 5.5
A18: 1) Bis Oktober 2024 DIE LINKE.
A20: Landesliste (Zweitstimmen)
A21: Partei | B21: Einheit | C21: Landtagswahl 2026 (vorläufiges Ergebnis) insgesamt davon... | D21: ...Urnenwahl | E21: ...Briefwahl | F21: Landtagswahl 2021 insgesamt davon... | G21: …Urnenwahl | H21: …Briefwahl
A22: Wählerinnen und Wähler | B22: Anzahl | C22: 1024251 | D22: 737691 | E22: 286560 | F22: 928807 | G22: 608912 | H22: 319895
B23: % | C23: 78.1 | D23: =D22/C22*100 -> 72.022483 | E23: =E22/C22*100 -> 27.977517 | F23: 70.8 | G23: 65.6 | H23: 34.4
A24: Ungültige Stimmen | B24: % | C24: 0.9 | D24: 1 | E24: 0.5 | F24: 1.6 | G24: 2 | H24: 0.8
A25: Gültige Stimmen | B25: % | C25: 99.1 | D25: 99 | E25: 99.5 | F25: 98.4 | G25: 98 | H25: 99.2
A26: davon entfallen auf
A27: SPD | B27: % | C27: 35.5 | D27: 32.4 | E27: 43.4 | F27: 39.6 | G27: 38.7 | H27: 41.3
A28: AfD | B28: % | C28: 38.2 | D28: 44.5 | E28: 22.2 | F28: 16.7 | G28: 19.9 | H28: 10.7
A29: CDU | B29: % | C29: 4.9 | D29: 3.9 | E29: 7.5 | F29: 13.3 | G29: 12.9 | H29: 14.1
A30: Die Linke 1) | B30: % | C30: 6.5 | D30: 5.7 | E30: 8.7 | F30: 9.9 | G30: 9.2 | H30: 11.4
A31: GRÜNE | B31: % | C31: 5.7 | D31: 4.8 | E31: 7.8 | F31: 6.3 | G31: 5.3 | H31: 8.1
A32: FDP | B32: % | C32: 1 | D32: 0.9 | E32: 1.4 | F32: 5.8 | G32: 5.6 | H32: 6.1
A33: BSW | B33: % | C33: 4.8 | D33: 4.8 | E33: 4.8 | F33: x | G33: x | H33: x
A34: Sonstige | B34: % | C34: =100-SUM(C27:C33) -> 3.4 | D34: =100-SUM(D27:D33) -> 3 | E34: =100-SUM(E27:E33) -> 4.2 | F34: 6.8 | G34: 6.4 | H34: 7.5
A35: 1) Bis Oktober 2024 DIE LINKE.
J36: Daten der Grafik: Briefwahlanteil bei Landtagswahlen in Mecklenburg-Vorpommern seit 1990
J37: Jahr | K37: Urne | L37: Brief
J38: 1990 | K38: 96.1 | L38: 3.9
J39: 1994 | K39: 91.8 | L39: 8.2
J40: 1998 | K40: 91.7 | L40: 8.3
J41: 2002 | K41: 88.9 | L41: 11.1
...

Sheet Wahlkreiseinteilung
A1: Landtagswahlen in Mecklenburg-Vorpommern
A2: Wahlkreiseinteilung in Mecklenburg-Vorpommern zur Landtagswahl am 20. September 2026
B27: 1 = Greifswald | E27: 19 = Ludwigslust-Parchim III
B28: 2 = Neubrandenburg I | E28: 20 = Mecklenburgische Seenplatte III
B29: 3 = Neubrandenburg II | E29: 21 = Mecklenburgische Seenplatte IV
B30: 4 = Hansestadt Rostock I | E30: 22 = Mecklenburgische Seenplatte V
B31: 5 = Hansestadt Rostock II | E31: 23 = Vorpommern-Rügen I
B32: 6 = Hansestadt Rostock III | E32: 24 = Vorpommern-Rügen II – Stralsund III
B33: 7 = Hansestadt Rostock IV | E33: 25 = Vorpommern-Rügen III – Stralsund I
B34: 8 = Schwerin I | E34: 26 = Stralsund II
B35: 9 = Schwerin II | E35: 27 = Nordwestmecklenburg I
B36: 10 = Wismar | E36: 28 = Nordwestmecklenburg II
B37: 11 = Landkreis Rostock I | E37: 29 = Vorpommern-Greifswald II
B38: 12 = Landkreis Rostock II | E38: 30 = Vorpommern-Greifswald III
... B44: 18 = Ludwigslust-Parchim II | E44: 36 = Vorpommern-Greifswald V

Sheet Wahlbeteiligung MV
A1: Landtagswahlen in Mecklenburg-Vorpommern
A2: Wahlbeteiligung bei der Landtagswahl 2026 (vorläufiges Ergebnis) im Vergleich zu 2021
A3: Wahl- kreis- Nr. | B3: Land Wahlkreis | C3: Wahlbeteiligung 2026 (vorläufiges Ergebnis) in % | D3: Wahlberechtigte 2026 | E3: Wahlbeteiligung 2021 in % | F3: Wahlberechtigte 2021 | G3: Veränderung der Wahlbeteiligung in Prozentpunkten
A4: Mecklenburg-Vorpommern | C4: 78.1 | D4: 1311294 | E4: 70.767811 | F4: 1312471 | G4: =C4-E4 -> 7.3321887
A5: 1 | B5: Greifswald | C5: 76.8 | D5: 45895 | E5: 72.054987 | F5: 45611 | G5: =C5-E5 -> 4.7450133
A6: 2 | B6: Neubrandenburg I | C6: 72.9 | D6: 25351 | E6: 67.795056 | F6: 26173 | G6: =C6-E6 -> 5.104944
A7: 3 | B7: Neubrandenburg II | C7: 76.1 | D7: 24660 | E7: 70.395227 | F7: 25479 | G7: =C7-E7 -> 5.7047726
A8: 4 | B8: Hansestadt Rostock I | C8: 74.1 | D8: 35800 | E8: 66.88292 | F8: 36223 | G8: =C8-E8 -> 7.2170803
A9: 5 | B9: Hansestadt Rostock II | C9: 72.5 | D9: 35973 | E9: 67.02738 | F9: 36779 | G9: =C9-E9 -> 5.4726202
A10: 6 | B10: Hansestadt Rostock III | C10: 83.8 | D10: 43978 | E10: 80.612129 | F10: 43847 | G10: =C10-E10 -> 3.1878715
A11: 7 | B11: Hansestadt Rostock IV | C11: 79.4 | D11: 51598 | E11: 74.321678 | F11: 50050 | G11: =C11-E11 -> 5.0783217
A12: 8 | B12: Schwerin I | C12: 80.7 | D12: 48992 | E12: 75.232546 | F12: 48055 | G12: =C12-E12 -> 5.467454
A13: 9 | B13: Schwerin II | C13: 73.5 | D13: 27340 | E13: 66.569725 | F13: 27508 | G13: =C13-E13 -> 6.9302748
A14: 10 | B14: Wismar | C14: 74.9 | D14: 33745 | E14: 67.054171 | F14: 33634 | G14: =C14-E14 -> 7.8458286
A15: 11 | B15: Landkreis Rostock I | C15: 81.8 | D15: 45362 | E15: 73.687181 | F15: 44294 | G15: =C15-E15 -> 8.1128189
A16: 12 | B16: Landkreis Rostock II | C16: 84.8 | D16: 50239 | E16: 78.638638 | F16: 48569 | G16: =C16-E16 -> 6.1613622
A17: 13 | B17: Mecklenburgische Seenplatte I – Vorpommern-Greifswald I | C17: 75 | D17: 28846 | E17: 65.412137 | F17: 29068 | G17: =C17-E17 -> 9.5878629
A18: 14 | B18: Mecklenburgische Seenplatte II | C18: 77.9 | D18: 29969 | E18: 67.732219 | F18: 30876 | G18: =C18-E18 -> 10.167781
A19: 15 | B19: Landkreis Rostock III | C19: 80 | D19: 39572 | E19: 70.5714 | F19: 39482 | G19: =C19-E19 -> 9.4286004
A20: 16 | B20: Landkreis Rostock IV | C20: 75.7 | D20: 44794 | E20: 67.640895 | F20: 44856 | G20: =C20-E20 -> 8.0591047
A21: 17 | B21: Ludwigslust-Parchim I | C21: 78.7 | D21: 32816 | E21: 71.697072 | F21: 32615 | G21: =C21-E21 -> 7.0029281
A22: 18 | B22: Ludwigslust-Parchim II | C22: 80.5 | D22: 32799 | E22: 73.757759 | F22: 32703 | G22: =C22-E22 -> 6.7422408
A23: 19 | B23: Ludwigslust-Parchim III | C23: 80 | D23: 30871 | E23: 72.07457 | F23: 31380 | G23: =C23-E23 -> 7.9254302
A24: 20 | B24: Mecklenburgische Seenplatte III | C24: 78 | D24: 46043 | E24: 69.010074 | F24: 46357 | G24: =C24-E24 -> 8.989926
A25: 21 | B25: Mecklenburgische Seenplatte IV | C25: 78.9 | D25: 33761 | E25: 68.384171 | F25: 33964 | G25: =C25-E25 -> 10.515829
A26: 22 | B26: Mecklenburgische Seenplatte V | C26: 81.2 | D26: 33104 | E26: 73.50517 | F26: 33365 | G26: =C26-E26 -> 7.6948299
A27: 23 | B27: Vorpommern-Rügen I | C27: 78.1 | D27: 34889 | E27: 70.800262 | F27: 35151 | G27: =C27-E27 -> 7.2997383
A28: 24 | B28: Vorpommern-Rügen II – Stralsund III | C28: 77.1 | D28: 27789 | E28: 67.856494 | F28: 27511 | G28: =C28-E28 -> 9.2435062
A29: 25 | B29: Vorpommern-Rügen III – Stralsund I | C29: 75.8 | D29: 41620 | E29: 67.665484 | F29: 41983 | G29: =C29-E29 -> 8.1345164
... A40: 36 | B40: Vorpommern-Greifswald V | C40: 74.5 | D40: 24766 | E40: 68.430607 | F40: 25341 | G40: =C40-E40 -> 6.0693935
I42: Daten der Grafik: Wahlbeteiligung im Zeitvergleich
I43: Jahr | J43: Wahlbeteiligung in % | K43: Hilfsspalte (Durchschnitt)
I44: 1990 | J44: 64.8 | K44: =$J$53 -> 67.677778
I45: 1994 | J45: 72.9 | K45: =$J$53 -> 67.677778
I46: 1998 | J46: 79.4 | K46: =$J$53 -> 67.677778
I47: 2002 | J47: 70.6 | K47: =$J$53 -> 67.677778
I48: 2006 | J48: 59.1 | K48: =$J$53 -> 67.677778
I49: 2011 | J49: 51.5 | K49: =$J$53 -> 67.677778
I50: 2016 | J50: 61.9 | K50: =$J$53 -> 67.677778
I51: 2021 | J51: 70.8 | K51: =$J$53 -> 67.677778
...

Sheet SPD
A1: Landtagswahlen in Mecklenburg-Vorpommern
A2: Stimmenanteile der SPD 2026 (vorläufiges Ergebnis) im Vergleich zu 2021 nach Wahlkreisen
A3: Wahl- kreis- Nr. | B3: Land Wahlkreis | C3: Landtagswahl 2026 (vorläufig) Wahlkreis (Erststimmen) in % | D3: Landtagswahl 2021 Wahlkreis (Erststimmen) in % | E3: Veränderung Erststimmen- anteile 2026 gegenüber 2021 in %pkt. | F3: Landtagswahl 2026 (vorläufig) Wahlkreis (Zweitstimmen) in % | G3: Landtagswahl 2021 Landesliste (Zweitstimmen) in % | H3: Veränderung Zweitstimmen- anteile 2026 gegenüber 2021 in %pkt.
A4: Mecklenburg-Vorpommern | C4: 37.4 | D4: 34.4 | E4: =C4-D4 -> 3 | F4: 35.5 | G4: 39.6 | H4: =F4-G4 -> -4.1
A5: 1 | B5: Greifswald | C5: 39.4 | D5: 29.9 | E5: =C5-D5 -> 9.5 | F5: 33.2 | G5: 33.5 | H5: =F5-G5 -> -0.3
A6: 2 | B6: Neubrandenburg I | C6: 37.6 | D6: 34.6 | E6: =C6-D6 -> 3 | F6: 38.7 | G6: 42.3 | H6: =F6-G6 -> -3.6
A7: 3 | B7: Neubrandenburg II | C7: 39.6 | D7: 34 | E7: =C7-D7 -> 5.6 | F7: 37.3 | G7: 40.5 | H7: =F7-G7 -> -3.2
A8: 4 | B8: Hansestadt Rostock I | C8: 38.5 | D8: 37.4 | E8: =C8-D8 -> 1.1 | F8: 37.2 | G8: 43.1 | H8: =F8-G8 -> -5.9
A9: 5 | B9: Hansestadt Rostock II | C9: 40.4 | D9: 39.4 | E9: =C9-D9 -> 1 | F9: 39 | G9: 44.6 | H9: =F9-G9 -> -5.6
A10: 6 | B10: Hansestadt Rostock III | C10: 42.2 | D10: 30.6 | E10: =C10-D10 -> 11.6 | F10: 36.3 | G10: 35.3 | H10: =F10-G10 -> 1
A11: 7 | B11: Hansestadt Rostock IV | C11: 39 | D11: 30.1 | E11: =C11-D11 -> 8.9 | F11: 35.5 | G11: 36.5 | H11: =F11-G11 -> -1
A12: 8 | B12: Schwerin I | C12: 54.4 | D12: 46.4 | E12: =C12-D12 -> 8 | F12: 37.8 | G12: 35.2 | H12: =F12-G12 -> 2.6
A13: 9 | B13: Schwerin II | C13: 43.2 | D13: 38.6 | E13: =C13-D13 -> 4.6 | F13: 40.5 | G13: 44.3 | H13: =F13-G13 -> -3.8
A14: 10 | B14: Wismar | C14: 46.2 | D14: 43.4 | E14: =C14-D14 -> 2.8 | F14: 41.7 | G14: 45.1 | H14: =F14-G14 -> -3.4
A15: 11 | B15: Landkreis Rostock I | C15: 41.2 | D15: 38.5 | E15: =C15-D15 -> 2.7 | F15: 38 | G15: 41.4 | H15: =F15-G15 -> -3.4
A16: 12 | B16: Landkreis Rostock II | C16: 40.7 | D16: 34.2 | E16: =C16-D16 -> 6.5 | F16: 39.1 | G16: 40.2 | H16: =F16-G16 -> -1.1
A17: 13 | B17: Mecklenburgische Seenplatte I – Vorpommern-Greifswald I | C17: 27.4 | D17: 25.6 | E17: =C17-D17 -> 1.8 | F17: 28.1 | G17: 33.7 | H17: =F17-G17 -> -5.6
A18: 14 | B18: Mecklenburgische Seenplatte II | C18: 31.9 | D18: 34.3 | E18: =C18-D18 -> -2.4 | F18: 32.2 | G18: 40 | H18: =F18-G18 -> -7.8
A19: 15 | B19: Landkreis Rostock III | C19: 33.4 | D19: 33 | E19: =C19-D19 -> 0.4 | F19: 33.9 | G19: 40.5 | H19: =F19-G19 -> -6.6
A20: 16 | B20: Landkreis Rostock IV | C20: 38.5 | D20: 39.4 | E20: =C20-D20 -> -0.9 | F20: 36.1 | G20: 44.2 | H20: =F20-G20 -> -8.1
A21: 17 | B21: Ludwigslust-Parchim I | C21: 43.9 | D21: 51.5 | E21: =C21-D21 -> -7.6 | F21: 40.1 | G21: 48.1 | H21: =F21-G21 -> -8
A22: 18 | B22: Ludwigslust-Parchim II | C22: 38.8 | D22: 38.7 | E22: =C22-D22 -> 0.1 | F22: 38.5 | G22: 43.5 | H22: =F22-G22 -> -5
A23: 19 | B23: Ludwigslust-Parchim III | C23: 35.9 | D23: 33.3 | E23: =C23-D23 -> 2.6 | F23: 36.7 | G23: 41.2 | H23: =F23-G23 -> -4.5
A24: 20 | B24: Mecklenburgische Seenplatte III | C24: 36.5 | D24: 35.5 | E24: =C24-D24 -> 1 | F24: 36.1 | G24: 41.4 | H24: =F24-G24 -> -5.3
A25: 21 | B25: Mecklenburgische Seenplatte IV | C25: 39 | D25: 37.5 | E25: =C25-D25 -> 1.5 | F25: 36.5 | G25: 41.4 | H25: =F25-G25 -> -4.9
A26: 22 | B26: Mecklenburgische Seenplatte V | C26: 30.6 | D26: 29.4 | E26: =C26-D26 -> 1.2 | F26: 31 | G26: 37.5 | H26: =F26-G26 -> -6.5
A27: 23 | B27: Vorpommern-Rügen I | C27: 35.3 | D27: 30.4 | E27: =C27-D27 -> 4.9 | F27: 36.7 | G27: 40.4 | H27: =F27-G27 -> -3.7
A28: 24 | B28: Vorpommern-Rügen II – Stralsund III | C28: 28.3 | D28: 22.7 | E28: =C28-D28 -> 5.6 | F28: 30.1 | G28: 33.7 | H28: =F28-G28 -> -3.6
A29: 25 | B29: Vorpommern-Rügen III – Stralsund I | C29: 32.7 | D29: 31.4 | E29: =C29-D29 -> 1.3 | F29: 33.4 | G29: 38 | H29: =F29-G29 -> -4.6
A30: 26 | B30: Stralsund II | C30: 35.4 | D30: 25.5 | E30: =C30-D30 -> 9.9 | F30: 33.1 | G30: 33.6 | H30: =F30-G30 -> -0.5
A31: 27 | B31: Nordwestmecklenburg I | C31: 38.6 | D31: 38.3 | E31: =C31-D31 -> 0.3 | F31: 37.6 | G31: 42.6 | H31: =F31-G31 -> -5
A32: 28 | B32: Nordwestmecklenburg II | C32: 35.1 | D32: 34.7 | E32: =C32-D32 -> 0.4 | F32: 36.2 | G32: 41.6 | H32: =F32-G32 -> -5.4
A33: 29 | B33: Vorpommern-Greifswald II | C33: 33.4 | D33: 28.2 | E33: =C33-D33 -> 5.2 | F33: 31.1 | G33: 35.6 | H33: =F33-G33 -> -4.5
A34: 30 | B34: Vorpommern-Greifswald III | C34: 31.1 | D34: 27.9 | E34: =C34-D34 -> 3.2 | F34: 30.4 | G34: 34.7 | H34: =F34-G34 -> -4.3
A35: 31 | B35: Ludwigslust-Parchim IV | C35: 33.8 | D35: 35.1 | E35: =C35-D35 -> -1.3 | F35: 34.7 | G35: 40.8 | H35: =F35-G35 -> -6.1
A36: 32 | B36: Ludwigslust-Parchim V | C36: 36.2 | D36: 34.6 | E36: =C36-D36 -> 1.6 | F36: 36.1 | G36: 40.9 | H36: =F36-G36 -> -4.8
A37: 33 | B37: Vorpommern-Rügen IV | C37: 31.2 | D37: 27.4 | E37: =C37-D37 -> 3.8 | F37: 32.1 | G37: 37.1 | H37: =F37-G37 -> -5
A38: 34 | B38: Vorpommern-Rügen V | C38: 32.9 | D38: 31 | E38: =C38-D38 -> 1.9 | F38: 33.7 | G38: 38.2 | H38: =F38-G38 -> -4.5
A39: 35 | B39: Vorpommern-Greifswald IV | C39: 33.8 | D39: 36.8 | E39: =C39-D39 -> -3 | F39: 31.6 | G39: 39 | H39: =F39-G39 -> -7.4
A40: 36 | B40: Vorpommern-Greifswald V | C40: 32.2 | D40: 30.6 | E40: =C40-D40 -> 1.6 | F40: 31 | G40: 38.3 | H40: =F40-G40 -> -7.3
...

Sheet AfD
A1: Landtagswahlen in Mecklenburg-Vorpommern
A2: Stimmenanteile der AfD 2026 (vorläufiges Ergebnis) im Vergleich zu 2021 nach Wahlkreisen
A3: Wahl- kreis- Nr. | B3: Land Wahlkreis | C3: Landtagswahl 2026 (vorläufig) Wahlkreis (Erststimmen) in % | D3: Landtagswahl 2021 Wahlkreis (Erststimmen) in % | E3: Veränderung Erststimmen- anteile 2026 gegenüber 2021 in %pkt. | F3: Landtagswahl 2026 (vorläufig) Wahlkreis (Zweitstimmen) in % | G3: Landtagswahl 2021 Landesliste (Zweitstimmen) in % | H3: Veränderung Zweitstimmen- anteile 2026 gegenüber 2021 in %pkt.
A4: Mecklenburg-Vorpommern | C4: 39.5 | D4: 18 | E4: =C4-D4 -> 21.5 | F4: 38.2 | G4: 16.7 | H4: =F4-G4 -> 21.5
A5: 1 | B5: Greifswald | C5: 29.1 | D5: 13.1 | E5: =C5-D5 -> 16 | F5: 28.4 | G5: 12.4 | H5: =F5-G5 -> 16
A6: 2 | B6: Neubrandenburg I | C6: 37.9 | D6: 17.8 | E6: =C6-D6 -> 20.1 | F6: 36.8 | G6: 16.4 | H6: =F6-G6 -> 20.4
A7: 3 | B7: Neubrandenburg II | C7: 37.5 | D7: 17.7 | E7: =C7-D7 -> 19.8 | F7: 35.5 | G7: 16.2 | H7: =F7-G7 -> 19.3
A8: 4 | B8: Hansestadt Rostock I | C8: 35.4 | D8: 15.8 | E8: =C8-D8 -> 19.6 | F8: 33.2 | G8: 14.1 | H8: =F8-G8 -> 19.1
A9: 5 | B9: Hansestadt Rostock II | C9: 30.8 | D9: 13.1 | E9: =C9-D9 -> 17.7 | F9: 29.3 | G9: 11.8 | H9: =F9-G9 -> 17.5
A10: 6 | B10: Hansestadt Rostock III | C10: 17.5 | D10: 8.1 | E10: =C10-D10 -> 9.4 | F10: 17.2 | G10: 7.4 | H10: =F10-G10 -> 9.8
A11: 7 | B11: Hansestadt Rostock IV | C11: 25.7 | D11: 11.3 | E11: =C11-D11 -> 14.4 | F11: 25.5 | G11: 10.8 | H11: =F11-G11 -> 14.7
A12: 8 | B12: Schwerin I | C12: 28.2 | D12: 11.2 | E12: =C12-D12 -> 17 | F12: 26.8 | G12: 11.9 | H12: =F12-G12 -> 14.9
A13: 9 | B13: Schwerin II | C13: 36.8 | D13: 17.5 | E13: =C13-D13 -> 19.3 | F13: 35.3 | G13: 15.7 | H13: =F13-G13 -> 19.6
A14: 10 | B14: Wismar | C14: 33.4 | D14: 12.8 | E14: =C14-D14 -> 20.6 | F14: 32.3 | G14: 12.4 | H14: =F14-G14 -> 19.9
A15: 11 | B15: Landkreis Rostock I | C15: 35.8 | D15: 16.6 | E15: =C15-D15 -> 19.2 | F15: 35.4 | G15: 15.4 | H15: =F15-G15 -> 20
A16: 12 | B16: Landkreis Rostock II | C16: 34.7 | D16: 16.2 | E16: =C16-D16 -> 18.5 | F16: 33.5 | G16: 15 | H16: =F16-G16 -> 18.5
A17: 13 | B17: Mecklenburgische Seenplatte I – Vorpommern-Greifswald I | C17: 54.1 | D17: 27.4 | E17: =C17-D17 -> 26.7 | F17: 51.7 | G17: 24 | H17: =F17-G17 -> 27.7
A18: 14 | B18: Mecklenburgische Seenplatte II | C18: 47.3 | D18: 22.6 | E18: =C18-D18 -> 24.7 | F18: 46.5 | G18: 21 | H18: =F18-G18 -> 25.5
A19: 15 | B19: Landkreis Rostock III | C19: 45.9 | D19: 22.3 | E19: =C19-D19 -> 23.6 | F19: 43.7 | G19: 19.7 | H19: =F19-G19 -> 24
A20: 16 | B20: Landkreis Rostock IV | C20: 42 | D20: 19.4 | E20: =C20-D20 -> 22.6 | F20: 40.5 | G20: 17.6 | H20: =F20-G20 -> 22.9
A21: 17 | B21: Ludwigslust-Parchim I | C21: 39.4 | D21: 14.8 | E21: =C21-D21 -> 24.6 | F21: 39.1 | G21: 14.3 | H21: =F21-G21 -> 24.8
A22: 18 | B22: Ludwigslust-Parchim II | C22: 41.3 | D22: 16.5 | E22: =C22-D22 -> 24.8 | F22: 39.7 | G22: 15.2 | H22: =F22-G22 -> 24.5
A23: 19 | B23: Ludwigslust-Parchim III | C23: 44.5 | D23: 18.8 | E23: =C23-D23 -> 25.7 | F23: 41.5 | G23: 17.9 | H23: =F23-G23 -> 23.6
A24: 20 | B24: Mecklenburgische Seenplatte III | C24: 43.3 | D24: 18.9 | E24: =C24-D24 -> 24.4 | F24: 41.8 | G24: 18.5 | H24: =F24-G24 -> 23.3
A25: 21 | B25: Mecklenburgische Seenplatte IV | C25: 40.7 | D25: 18.4 | E25: =C25-D25 -> 22.3 | F25: 39.2 | G25: 17.5 | H25: =F25-G25 -> 21.7
A26: 22 | B26: Mecklenburgische Seenplatte V | C26: 50.6 | D26: 24 | E26: =C26-D26 -> 26.6 | F26: 48.9 | G26: 22.4 | H26: =F26-G26 -> 26.5
A27: 23 | B27: Vorpommern-Rügen I | C27: 40.6 | D27: 17.8 | E27: =C27-D27 -> 22.8 | F27: 39.1 | G27: 17.1 | H27: =F27-G27 -> 22
A28: 24 | B28: Vorpommern-Rügen II – Stralsund III | C28: 47.6 | D28: 22.7 | E28: =C28-D28 -> 24.9 | F28: 46.6 | G28: 21.5 | H28: =F28-G28 -> 25.1
A29: 25 | B29: Vorpommern-Rügen III – Stralsund I | C29: 45.1 | D29: 22.3 | E29: =C29-D29 -> 22.8 | F29: 43.4 | G29: 20.7 | H29: =F29-G29 -> 22.7
A30: 26 | B30: Stralsund II | C30: 34.9 | D30: 16.2 | E30: =C30-D30 -> 18.7 | F30: 33.7 | G30: 15.8 | H30: =F30-G30 -> 17.9
A31: 27 | B31: Nordwestmecklenburg I | C31: 37.4 | D31: 15.2 | E31: =C31-D31 -> 22.2 | F31: 36.5 | G31: 13.9 | H31: =F31-G31 -> 22.6
A32: 28 | B32: Nordwestmecklenburg II | C32: 41.6 | D32: 18.3 | E32: =C32-D32 -> 23.3 | F32: 39.8 | G32: 16.9 | H32: =F32-G32 -> 22.9
A33: 29 | B33: Vorpommern-Greifswald II | C33: 48.9 | D33: 23.6 | E33: =C33-D33 -> 25.3 | F33: 47.4 | G33: 21.3 | H33: =F33-G33 -> 26.1
A34: 30 | B34: Vorpommern-Greifswald III | C34: 50.4 | D34: 25.5 | E34: =C34-D34 -> 24.9 | F34: 49 | G34: 23.7 | H34: =F34-G34 -> 25.3
A35: 31 | B35: Ludwigslust-Parchim IV | C35: 44.2 | D35: 19.6 | E35: =C35-D35 -> 24.6 | F35: 42.7 | G35: 18.5 | H35: =F35-G35 -> 24.2
A36: 32 | B36: Ludwigslust-Parchim V | C36: 41.8 | D36: 17.4 | E36: =C36-D36 -> 24.4 | F36: 40.4 | G36: 16.5 | H36: =F36-G36 -> 23.9
A37: 33 | B37: Vorpommern-Rügen IV | C37: 44.3 | D37: 20.8 | E37: =C37-D37 -> 23.5 | F37: 43.7 | G37: 19.7 | H37: =F37-G37 -> 24
A38: 34 | B38: Vorpommern-Rügen V | C38: 41.6 | D38: 19.7 | E38: =C38-D38 -> 21.9 | F38: 41.7 | G38: 17.8 | H38: =F38-G38 -> 23.9
A39: 35 | B39: Vorpommern-Greifswald IV | C39: 51.6 | D39: 28 | E39: =C39-D39 -> 23.6 | F39: 50.7 | G39: 23.7 | H39: =F39-G39 -> 27
A40: 36 | B40: Vorpommern-Greifswald V | C40: 51.2 | D40: 26.8 | E40: =C40-D40 -> 24.4 | F40: 49 | G40: 23.3 | H40: =F40-G40 -> 25.7
...

Sheet CDU
A1: Landtagswahlen in Mecklenburg-Vorpommern
A2: Stimmenanteile der CDU 2026 (vorläufiges Ergebnis) im Vergleich zu 2021 nach Wahlkreisen
A3: Wahl- kreis- Nr. | B3: Land Wahlkreis | C3: Landtagswahl 2026 (vorläufig) Wahlkreis (Erststimmen) in % | D3: Landtagswahl 2021 Wahlkreis (Erststimmen) in % | E3: Veränderung Erststimmen- anteile 2026 gegenüber 2021 in %pkt. | F3: Landtagswahl 2026 (vorläufig) Wahlkreis (Zweitstimmen) in % | G3: Landtagswahl 2021 Landesliste (Zweitstimmen) in % | H3: Veränderung Zweitstimmen- anteile 2026 gegenüber 2021 in %pkt.
A4: Mecklenburg-Vorpommern | C4: 6.2 | D4: 17.3 | E4: =C4-D4 -> -11.1 | F4: 4.9 | G4: 13.3 | H4: =F4-G4 -> -8.4
A5: 1 | B5: Greifswald | C5: 5.5 | D5: 15.7 | E5: =C5-D5 -> -10.2 | F5: 4.9 | G5: 12.5 | H5: =F5-G5 -> -7.6
A6: 2 | B6: Neubrandenburg I | C6: 6 | D6: 15.5 | E6: =C6-D6 -> -9.5 | F6: 4.3 | G6: 11.5 | H6: =F6-G6 -> -7.2
A7: 3 | B7: Neubrandenburg II | C7: 5.7 | D7: 17.2 | E7: =C7-D7 -> -11.5 | F7: 4.1 | G7: 11.9 | H7: =F7-G7 -> -7.8
A8: 4 | B8: Hansestadt Rostock I | C8: 5.4 | D8: 11.7 | E8: =C8-D8 -> -6.3 | F8: 4.6 | G8: 9.5 | H8: =F8-G8 -> -4.9
A9: 5 | B9: Hansestadt Rostock II | C9: 4.1 | D9: 9.1 | E9: =C9-D9 -> -5 | F9: 3.4 | G9: 7.8 | H9: =F9-G9 -> -4.4
A10: 6 | B10: Hansestadt Rostock III | C10: 4.6 | D10: 10.4 | E10: =C10-D10 -> -5.8 | F10: 4.1 | G10: 8.8 | H10: =F10-G10 -> -4.7
A11: 7 | B11: Hansestadt Rostock IV | C11: 7.3 | D11: 14.1 | E11: =C11-D11 -> -6.8 | F11: 5.2 | G11: 9.8 | H11: =F11-G11 -> -4.6
A12: 8 | B12: Schwerin I | C12: 4.9 | D12: 11.8 | E12: =C12-D12 -> -6.9 | F12: 6.5 | G12: 12.1 | H12: =F12-G12 -> -5.6
A13: 9 | B13: Schwerin II | C13: 5.5 | D13: 12.1 | E13: =C13-D13 -> -6.6 | F13: 5.1 | G13: 10.4 | H13: =F13-G13 -> -5.3
A14: 10 | B14: Wismar | C14: 5.7 | D14: 12.4 | E14: =C14-D14 -> -6.7 | F14: 4.1 | G14: 10.4 | H14: =F14-G14 -> -6.3
A15: 11 | B15: Landkreis Rostock I | C15: 6.8 | D15: 16.6 | E15: =C15-D15 -> -9.8 | F15: 5.5 | G15: 13 | H15: =F15-G15 -> -7.5
A16: 12 | B16: Landkreis Rostock II | C16: 6.9 | D16: 16.7 | E16: =C16-D16 -> -9.8 | F16: 5.8 | G16: 13.8 | H16: =F16-G16 -> -8
A17: 13 | B17: Mecklenburgische Seenplatte I – Vorpommern-Greifswald I | C17: 6.6 | D17: 26.5 | E17: =C17-D17 -> -19.9 | F17: 5 | G17: 21.1 | H17: =F17-G17 -> -16.1
A18: 14 | B18: Mecklenburgische Seenplatte II | C18: 6.9 | D18: 21.4 | E18: =C18-D18 -> -14.5 | F18: 5.1 | G18: 15.9 | H18: =F18-G18 -> -10.8
A19: 15 | B19: Landkreis Rostock III | C19: 6.9 | D19: 20.1 | E19: =C19-D19 -> -13.2 | F19: 5 | G19: 14.5 | H19: =F19-G19 -> -9.5
A20: 16 | B20: Landkreis Rostock IV | C20: 4.5 | D20: 16.8 | E20: =C20-D20 -> -12.3 | F20: 4.2 | G20: 11.8 | H20: =F20-G20 -> -7.6
A21: 17 | B21: Ludwigslust-Parchim I | C21: 4.5 | D21: 11.6 | E21: =C21-D21 -> -7.1 | F21: 4.2 | G21: 11.9 | H21: =F21-G21 -> -7.7
A22: 18 | B22: Ludwigslust-Parchim II | C22: 6.6 | D22: 19 | E22: =C22-D22 -> -12.4 | F22: 5.3 | G22: 14.8 | H22: =F22-G22 -> -9.5
A23: 19 | B23: Ludwigslust-Parchim III | C23: 6 | D23: 15.4 | E23: =C23-D23 -> -9.4 | F23: 4.4 | G23: 13.2 | H23: =F23-G23 -> -8.8
A24: 20 | B24: Mecklenburgische Seenplatte III | C24: 6.2 | D24: 20.1 | E24: =C24-D24 -> -13.9 | F24: 4.4 | G24: 13.5 | H24: =F24-G24 -> -9.1
A25: 21 | B25: Mecklenburgische Seenplatte IV | C25: 5.5 | D25: 14.8 | E25: =C25-D25 -> -9.3 | F25: 4.5 | G25: 12.4 | H25: =F25-G25 -> -7.9
A26: 22 | B26: Mecklenburgische Seenplatte V | C26: 7.4 | D26: 18.4 | E26: =C26-D26 -> -11 | F26: 4.2 | G26: 14.5 | H26: =F26-G26 -> -10.3
A27: 23 | B27: Vorpommern-Rügen I | C27: 7.6 | D27: 24.3 | E27: =C27-D27 -> -16.7 | F27: 5.4 | G27: 16.2 | H27: =F27-G27 -> -10.8
A28: 24 | B28: Vorpommern-Rügen II – Stralsund III | C28: 10.8 | D28: 33.1 | E28: =C28-D28 -> -22.3 | F28: 6.2 | G28: 20.4 | H28: =F28-G28 -> -14.2
A29: 25 | B29: Vorpommern-Rügen III – Stralsund I | C29: 5.8 | D29: 17.5 | E29: =C29-D29 -> -11.7 | F29: 4.6 | G29: 14.2 | H29: =F29-G29 -> -9.6
A30: 26 | B30: Stralsund II | C30: 7.9 | D30: 16.9 | E30: =C30-D30 -> -9 | F30: 5.4 | G30: 13.6 | H30: =F30-G30 -> -8.2
A31: 27 | B31: Nordwestmecklenburg I | C31: 6.5 | D31: 17 | E31: =C31-D31 -> -10.5 | F31: 4.9 | G31: 13.4 | H31: =F31-G31 -> -8.5
A32: 28 | B32: Nordwestmecklenburg II | C32: 6.3 | D32: 16.5 | E32: =C32-D32 -> -10.2 | F32: 4.7 | G32: 13.2 | H32: =F32-G32 -> -8.5
A33: 29 | B33: Vorpommern-Greifswald II | C33: 5.7 | D33: 20.1 | E33: =C33-D33 -> -14.4 | F33: 4.8 | G33: 16.8 | H33: =F33-G33 -> -12
A34: 30 | B34: Vorpommern-Greifswald III | C34: 6.7 | D34: 23.1 | E34: =C34-D34 -> -16.4 | F34: 5.2 | G34: 15.5 | H34: =F34-G34 -> -10.3
A35: 31 | B35: Ludwigslust-Parchim IV | C35: 6.9 | D35: 19.3 | E35: =C35-D35 -> -12.4 | F35: 5.1 | G35: 14.2 | H35: =F35-G35 -> -9.1
A36: 32 | B36: Ludwigslust-Parchim V | C36: 6.6 | D36: 16.2 | E36: =C36-D36 -> -9.6 | F36: 5.1 | G36: 13.6 | H36: =F36-G36 -> -8.5
A37: 33 | B37: Vorpommern-Rügen IV | C37: 10.2 | D37: 25 | E37: =C37-D37 -> -14.8 | F37: 4.7 | G37: 14.8 | H37: =F37-G37 -> -10.1
A38: 34 | B38: Vorpommern-Rügen V | C38: 5.5 | D38: 21.7 | E38: =C38-D38 -> -16.2 | F38: 5.1 | G38: 14.8 | H38: =F38-G38 -> -9.7
A39: 35 | B39: Vorpommern-Greifswald IV | C39: 4.5 | D39: 15.2 | E39: =C39-D39 -> -10.7 | F39: 4.3 | G39: 13.3 | H39: =F39-G39 -> -9
A40: 36 | B40: Vorpommern-Greifswald V | C40: 6.4 | D40: 23.5 | E40: =C40-D40 -> -17.1 | F40: 5.1 | G40: 16.6 | H40: =F40-G40 -> -11.5
...

Sheet Die Linke
A1: Landtagswahlen in Mecklenburg-Vorpommern
A2: Stimmenanteile der Partei "Die Linke" 1) 2026 (vorläufiges Ergebnis) im Vergleich zu 2021 nach Wahlkreisen
A3: Wahl- kreis- Nr. | B3: Land Wahlkreis | C3: Landtagswahl 2026 (vorläufig) Wahlkreis (Erststimmen) in % | D3: Landtagswahl 2021 Wahlkreis (Erststimmen) in % | E3: Veränderung Erststimmen- anteile 2026 gegenüber 2021 in %pkt. | F3: Landtagswahl 2026 (vorläufig) Wahlkreis (Zweitstimmen) in % | G3: Landtagswahl 2021 Landesliste (Zweitstimmen) in % | H3: Veränderung Zweitstimmen- anteile 2026 gegenüber 2021 in %pkt.
A4: Mecklenburg-Vorpommern | C4: 7.8 | D4: 11.7 | E4: =C4-D4 -> -3.9 | F4: 6.5 | G4: 9.9 | H4: =F4-G4 -> -3.4
A5: 1 | B5: Greifswald | C5: 15.1 | D5: 10.1 | E5: =C5-D5 -> 5 | F5: 12.4 | G5: 9.9 | H5: =F5-G5 -> 2.5
A6: 2 | B6: Neubrandenburg I | C6: 10 | D6: 18.4 | E6: =C6-D6 -> -8.4 | F6: 7.4 | G6: 12.8 | H6: =F6-G6 -> -5.4
A7: 3 | B7: Neubrandenburg II | C7: 9.1 | D7: 16.2 | E7: =C7-D7 -> -7.1 | F7: 7.6 | G7: 11.7 | H7: =F7-G7 -> -4.1
A8: 4 | B8: Hansestadt Rostock I | C8: 10.2 | D8: 14.9 | E8: =C8-D8 -> -4.7 | F8: 9.8 | G8: 12.5 | H8: =F8-G8 -> -2.7
A9: 5 | B9: Hansestadt Rostock II | C9: 15.3 | D9: 16.7 | E9: =C9-D9 -> -1.4 | F9: 12.4 | G9: 14.2 | H9: =F9-G9 -> -1.8
A10: 6 | B10: Hansestadt Rostock III | C10: 23.6 | D10: 20.5 | E10: =C10-D10 -> 3.1 | F10: 16.3 | G10: 14.7 | H10: =F10-G10 -> 1.6
A11: 7 | B11: Hansestadt Rostock IV | C11: 14.5 | D11: 13.9 | E11: =C11-D11 -> 0.6 | F11: 11.2 | G11: 12.6 | H11: =F11-G11 -> -1.4
A12: 8 | B12: Schwerin I | C12: 4.4 | D12: 9.8 | E12: =C12-D12 -> -5.4 | F12: 8.7 | G12: 12.8 | H12: =F12-G12 -> -4.1
A13: 9 | B13: Schwerin II | C13: 6.7 | D13: 13.4 | E13: =C13-D13 -> -6.7 | F13: 6.5 | G13: 11.3 | H13: =F13-G13 -> -4.8
A14: 10 | B14: Wismar | C14: 6.5 | D14: 9.8 | E14: =C14-D14 -> -3.3 | F14: 7 | G14: 10.5 | H14: =F14-G14 -> -3.5
A15: 11 | B15: Landkreis Rostock I | C15: 5.1 | D15: 9.8 | E15: =C15-D15 -> -4.7 | F15: 5.6 | G15: 9.1 | H15: =F15-G15 -> -3.5
A16: 12 | B16: Landkreis Rostock II | C16: 7.5 | D16: 11.4 | E16: =C16-D16 -> -3.9 | F16: 5.6 | G16: 9.6 | H16: =F16-G16 -> -4
A17: 13 | B17: Mecklenburgische Seenplatte I – Vorpommern-Greifswald I | C17: 6.3 | D17: 10 | E17: =C17-D17 -> -3.7 | F17: 4.6 | G17: 8 | H17: =F17-G17 -> -3.4
A18: 14 | B18: Mecklenburgische Seenplatte II | C18: 5.6 | D18: 9.4 | E18: =C18-D18 -> -3.8 | F18: 4.8 | G18: 8.5 | H18: =F18-G18 -> -3.7
A19: 15 | B19: Landkreis Rostock III | C19: 5.6 | D19: 10.1 | E19: =C19-D19 -> -4.5 | F19: 4.6 | G19: 8.4 | H19: =F19-G19 -> -3.8
A20: 16 | B20: Landkreis Rostock IV | C20: 6.2 | D20: 8.8 | E20: =C20-D20 -> -2.6 | F20: 5.8 | G20: 8.2 | H20: =F20-G20 -> -2.4
A21: 17 | B21: Ludwigslust-Parchim I | C21: 4.7 | D21: 8.7 | E21: =C21-D21 -> -4 | F21: 4.7 | G21: 7.8 | H21: =F21-G21 -> -3.1
A22: 18 | B22: Ludwigslust-Parchim II | C22: 5.5 | D22: 10.5 | E22: =C22-D22 -> -5 | F22: 4.5 | G22: 9.1 | H22: =F22-G22 -> -4.6
A23: 19 | B23: Ludwigslust-Parchim III | C23: 7.3 | D23: 13.4 | E23: =C23-D23 -> -6.1 | F23: 4.6 | G23: 9.5 | H23: =F23-G23 -> -4.9
A24: 20 | B24: Mecklenburgische Seenplatte III | C24: 5.7 | D24: 11.5 | E24: =C24-D24 -> -5.8 | F24: 5 | G24: 9.3 | H24: =F24-G24 -> -4.3
A25: 21 | B25: Mecklenburgische Seenplatte IV | C25: 6.9 | D25: 12 | E25: =C25-D25 -> -5.1 | F25: 5.7 | G25: 10.1 | H25: =F25-G25 -> -4.4
A26: 22 | B26: Mecklenburgische Seenplatte V | C26: 5.1 | D26: 12.1 | E26: =C26-D26 -> -7 | F26: 4 | G26: 9 | H26: =F26-G26 -> -5
A27: 23 | B27: Vorpommern-Rügen I | C27: 6.5 | D27: 11.2 | E27: =C27-D27 -> -4.7 | F27: 5.2 | G27: 9.2 | H27: =F27-G27 -> -4
A28: 24 | B28: Vorpommern-Rügen II – Stralsund III | C28: 5.3 | D28: 9.5 | E28: =C28-D28 -> -4.2 | F28: 4.4 | G28: 8.1 | H28: =F28-G28 -> -3.7
A29: 25 | B29: Vorpommern-Rügen III – Stralsund I | C29: 6.4 | D29: 10.4 | E29: =C29-D29 -> -4 | F29: 5.1 | G29: 8.9 | H29: =F29-G29 -> -3.8
A30: 26 | B30: Stralsund II | C30: 8.1 | D30: 11.3 | E30: =C30-D30 -> -3.2 | F30: 7.4 | G30: 9 | H30: =F30-G30 -> -1.6
A31: 27 | B31: Nordwestmecklenburg I | C31: 8.9 | D31: 15.2 | E31: =C31-D31 -> -6.3 | F31: 5.6 | G31: 10.1 | H31: =F31-G31 -> -4.5
A32: 28 | B32: Nordwestmecklenburg II | C32: 6.9 | D32: 11.3 | E32: =C32-D32 -> -4.4 | F32: 5 | G32: 9.7 | H32: =F32-G32 -> -4.7
A33: 29 | B33: Vorpommern-Greifswald II | C33: 6.2 | D33: 8.6 | E33: =C33-D33 -> -2.4 | F33: 4.4 | G33: 7.3 | H33: =F33-G33 -> -2.9
A34: 30 | B34: Vorpommern-Greifswald III | C34: 4.4 | D34: 7.9 | E34: =C34-D34 -> -3.5 | F34: 4 | G34: 7.4 | H34: =F34-G34 -> -3.4
A35: 31 | B35: Ludwigslust-Parchim IV | C35: 5.8 | D35: 10.7 | E35: =C35-D35 -> -4.9 | F35: 4.7 | G35: 9.5 | H35: =F35-G35 -> -4.8
A36: 32 | B36: Ludwigslust-Parchim V | C36: 5.3 | D36: 11.8 | E36: =C36-D36 -> -6.5 | F36: 4.8 | G36: 10.4 | H36: =F36-G36 -> -5.6
A37: 33 | B37: Vorpommern-Rügen IV | C37: 5.4 | D37: 11.3 | E37: =C37-D37 -> -5.9 | F37: 5.3 | G37: 10.3 | H37: =F37-G37 -> -5
A38: 34 | B38: Vorpommern-Rügen V | C38: 5.9 | D38: 10.8 | E38: =C38-D38 -> -4.9 | F38: 5.4 | G38: 10.1 | H38: =F38-G38 -> -4.7
A39: 35 | B39: Vorpommern-Greifswald IV | C39: 5.1 | D39: 8.1 | E39: =C39-D39 -> -3 | F39: 4 | G39: 7.6 | H39: =F39-G39 -> -3.6
A40: 36 | B40: Vorpommern-Greifswald V | C40: 4.7 | D40: 9.2 | E40: =C40-D40 -> -4.5 | F40: 4.5 | G40: 7.5 | H40: =F40-G40 -> -3
...

Sheet GRÜNE
A1: Landtagswahlen in Mecklenburg-Vorpommern
A2: Stimmenanteile der Partei "GRÜNE" 2026 (vorläufiges Ergebnis) im Vergleich zu 2021 nach Wahlkreisen
A3: Wahl- kreis- Nr. | B3: Land Wahlkreis | C3: Landtagswahl 2026 (vorläufig) Wahlkreis (Erststimmen) in % | D3: Landtagswahl 2021 Wahlkreis (Erststimmen) in % | E3: Veränderung Erststimmen- anteile 2026 gegenüber 2021 in %pkt. | F3: Landtagswahl 2026 (vorläufig) Wahlkreis (Zweitstimmen) in % | G3: Landtagswahl 2021 Landesliste (Zweitstimmen) in % | H3: Veränderung Zweitstimmen- anteile 2026 gegenüber 2021 in %pkt.
A4: Mecklenburg-Vorpommern | C4: 2.8 | D4: 6.5 | E4: =C4-D4 -> -3.7 | F4: 5.7 | G4: 6.3 | H4: =F4-G4 -> -0.6
A5: 1 | B5: Greifswald | C5: 5.3 | D5: 14.6 | E5: =C5-D5 -> -9.3 | F5: 12.6 | G5: 14.4 | H5: =F5-G5 -> -1.8
A6: 2 | B6: Neubrandenburg I | C6: 2.4 | D6: 5.2 | E6: =C6-D6 -> -2.8 | F6: 3.2 | G6: 4.1 | H6: =F6-G6 -> -0.9
A7: 3 | B7: Neubrandenburg II | C7: 1.9 | D7: 5.6 | E7: =C7-D7 -> -3.7 | F7: 4.4 | G7: 5.6 | H7: =F7-G7 -> -1.2
A8: 4 | B8: Hansestadt Rostock I | C8: 4.6 | D8: 9.3 | E8: =C8-D8 -> -4.7 | F8: 5.5 | G8: 6.9 | H8: =F8-G8 -> -1.4
A9: 5 | B9: Hansestadt Rostock II | C9: 3.2 | D9: 8.5 | E9: =C9-D9 -> -5.3 | F9: 6.2 | G9: 7.2 | H9: =F9-G9 -> -1
A10: 6 | B10: Hansestadt Rostock III | C10: 5.2 | D10: 16.7 | E10: =C10-D10 -> -11.5 | F10: 17.4 | G10: 18 | H10: =F10-G10 -> -0.6
A11: 7 | B11: Hansestadt Rostock IV | C11: 6.9 | D11: 15.3 | E11: =C11-D11 -> -8.4 | F11: 12.8 | G11: 12.9 | H11: =F11-G11 -> -0.1
A12: 8 | B12: Schwerin I | C12: 2.7 | D12: 8.2 | E12: =C12-D12 -> -5.5 | F12: 11.1 | G12: 11.8 | H12: =F12-G12 -> -0.7
A13: 9 | B13: Schwerin II | C13: 2.3 | D13: 6.5 | E13: =C13-D13 -> -4.2 | F13: 4.8 | G13: 5.3 | H13: =F13-G13 -> -0.5
A14: 10 | B14: Wismar | C14: 3.9 | D14: 8.4 | E14: =C14-D14 -> -4.5 | F14: 7.3 | G14: 8.2 | H14: =F14-G14 -> -0.9
A15: 11 | B15: Landkreis Rostock I | C15: 3.4 | D15: 5.7 | E15: =C15-D15 -> -2.3 | F15: 5.8 | G15: 6 | H15: =F15-G15 -> -0.2
A16: 12 | B16: Landkreis Rostock II | C16: 3.4 | D16: 7.1 | E16: =C16-D16 -> -3.7 | F16: 6.3 | G16: 6.2 | H16: =F16-G16 -> 0.1
A17: 13 | B17: Mecklenburgische Seenplatte I – Vorpommern-Greifswald I | C17: x | D17: 3.2 | E17: =0-D17 -> -3.2 | F17: 2.3 | G17: 2.6 | H17: =F17-G17 -> -0.3
A18: 14 | B18: Mecklenburgische Seenplatte II | C18: x | D18: 2.1 | E18: =0-D18 -> -2.1 | F18: 2.2 | G18: 2.4 | H18: =F18-G18 -> -0.2
A19: 15 | B19: Landkreis Rostock III | C19: 2.2 | D19: 4.6 | E19: =C19-D19 -> -2.4 | F19: 3.4 | G19: 3.5 | H19: =F19-G19 -> -0.1
A20: 16 | B20: Landkreis Rostock IV | C20: 2.1 | D20: 4.4 | E20: =C20-D20 -> -2.3 | F20: 4 | G20: 4.6 | H20: =F20-G20 -> -0.6
A21: 17 | B21: Ludwigslust-Parchim I | C21: 2.2 | D21: 4.1 | E21: =C21-D21 -> -1.9 | F21: 3.4 | G21: 4.5 | H21: =F21-G21 -> -1.1
A22: 18 | B22: Ludwigslust-Parchim II | C22: 2.2 | D22: 3.9 | E22: =C22-D22 -> -1.7 | F22: 3.1 | G22: 3.6 | H22: =F22-G22 -> -0.5
A23: 19 | B23: Ludwigslust-Parchim III | C23: 1.6 | D23: 3.3 | E23: =C23-D23 -> -1.7 | F23: 3 | G23: 3.7 | H23: =F23-G23 -> -0.7
A24: 20 | B24: Mecklenburgische Seenplatte III | C24: 2.4 | D24: 4.4 | E24: =C24-D24 -> -2 | F24: 3.9 | G24: 4.6 | H24: =F24-G24 -> -0.7
A25: 21 | B25: Mecklenburgische Seenplatte IV | C25: 2.4 | D25: 6.5 | E25: =C25-D25 -> -4.1 | F25: 4.9 | G25: 5.6 | H25: =F25-G25 -> -0.7
A26: 22 | B26: Mecklenburgische Seenplatte V | C26: 1.4 | D26: 3.1 | E26: =C26-D26 -> -1.7 | F26: 2.7 | G26: 3.2 | H26: =F26-G26 -> -0.5
A27: 23 | B27: Vorpommern-Rügen I | C27: 3 | D27: 5.4 | E27: =C27-D27 -> -2.4 | F27: 4.3 | G27: 4.6 | H27: =F27-G27 -> -0.3
A28: 24 | B28: Vorpommern-Rügen II – Stralsund III | C28: 1.8 | D28: 4.1 | E28: =C28-D28 -> -2.3 | F28: 3.9 | G28: 3.8 | H28: =F28-G28 -> 0.1
A29: 25 | B29: Vorpommern-Rügen III – Stralsund I | C29: 2.9 | D29: 4.9 | E29: =C29-D29 -> -2 | F29: 4 | G29: 4.3 | H29: =F29-G29 -> -0.3
A30: 26 | B30: Stralsund II | C30: 5.7 | D30: 11 | E30: =C30-D30 -> -5.3 | F30: 9.6 | G30: 10 | H30: =F30-G30 -> -0.4
A31: 27 | B31: Nordwestmecklenburg I | C31: 2.7 | D31: 6.1 | E31: =C31-D31 -> -3.4 | F31: 6.1 | G31: 7.3 | H31: =F31-G31 -> -1.2
A32: 28 | B32: Nordwestmecklenburg II | C32: 3.5 | D32: 6.1 | E32: =C32-D32 -> -2.6 | F32: 4.9 | G32: 5.4 | H32: =F32-G32 -> -0.5
A33: 29 | B33: Vorpommern-Greifswald II | C33: 1.8 | D33: 4.1 | E33: =C33-D33 -> -2.3 | F33: 3.8 | G33: 4 | H33: =F33-G33 -> -0.2
A34: 30 | B34: Vorpommern-Greifswald III | C34: 1.9 | D34: 3.9 | E34: =C34-D34 -> -2 | F34: 3.2 | G34: 3.8 | H34: =F34-G34 -> -0.6
A35: 31 | B35: Ludwigslust-Parchim IV | C35: 1.5 | D35: 3.3 | E35: =C35-D35 -> -1.8 | F35: 2.7 | G35: 3.4 | H35: =F35-G35 -> -0.7
A36: 32 | B36: Ludwigslust-Parchim V | C36: 2.5 | D36: 5.9 | E36: =C36-D36 -> -3.4 | F36: 3.9 | G36: 4.7 | H36: =F36-G36 -> -0.8
A37: 33 | B37: Vorpommern-Rügen IV | C37: 2.7 | D37: 4.8 | E37: =C37-D37 -> -2.1 | F37: 4 | G37: 4.6 | H37: =F37-G37 -> -0.6
A38: 34 | B38: Vorpommern-Rügen V | C38: 3.3 | D38: 5.9 | E38: =C38-D38 -> -2.6 | F38: 4 | G38: 5 | H38: =F38-G38 -> -1
A39: 35 | B39: Vorpommern-Greifswald IV | C39: x | D39: 2.3 | E39: =0-D39 -> -2.3 | F39: 1.7 | G39: 2.1 | H39: =F39-G39 -> -0.4
A40: 36 | B40: Vorpommern-Greifswald V | C40: x | D40: 2.6 | E40: =0-D40 -> -2.6 | F40: 1.9 | G40: 2.2 | H40: =F40-G40 -> -0.3
...

Sheet FDP
A1: Landtagswahlen in Mecklenburg-Vorpommern
A2: Stimmenanteile der FDP 2026 (vorläufiges Ergebnis) im Vergleich zu 2021 nach Wahlkreisen
A3: Wahl- kreis- Nr. | B3: Land Wahlkreis | C3: Landtagswahl 2026 (vorläufig) Wahlkreis (Erststimmen) in % | D3: Landtagswahl 2021 Wahlkreis (Erststimmen) in % | E3: Veränderung Erststimmen- anteile 2026 gegenüber 2021 in %pkt. | F3: Landtagswahl 2026 (vorläufig) Wahlkreis (Zweitstimmen) in % | G3: Landtagswahl 2021 Landesliste (Zweitstimmen) in % | H3: Veränderung Zweitstimmen- anteile 2026 gegenüber 2021 in %pkt.
A4: Mecklenburg-Vorpommern | C4: 1.5 | D4: 6.3 | E4: =C4-D4 -> -4.8 | F4: 1 | G4: 5.8 | H4: =F4-G4 -> -4.8
A5: 1 | B5: Greifswald | C5: 1.6 | D5: 7 | E5: =C5-D5 -> -5.4 | F5: 1.5 | G5: 6.9 | H5: =F5-G5 -> -5.4
A6: 2 | B6: Neubrandenburg I | C6: x | D6: 5.9 | E6: =0-D6 -> -5.9 | F6: 0.6 | G6: 5.1 | H6: =F6-G6 -> -4.5
A7: 3 | B7: Neubrandenburg II | C7: x | D7: 6.5 | E7: =0-D7 -> -6.5 | F7: 0.8 | G7: 5.6 | H7: =F7-G7 -> -4.8
A8: 4 | B8: Hansestadt Rostock I | C8: 1.1 | D8: 5.5 | E8: =C8-D8 -> -4.4 | F8: 0.9 | G8: 5.3 | H8: =F8-G8 -> -4.4
A9: 5 | B9: Hansestadt Rostock II | C9: 1.2 | D9: 5.5 | E9: =C9-D9 -> -4.3 | F9: 0.8 | G9: 5 | H9: =F9-G9 -> -4.2
A10: 6 | B10: Hansestadt Rostock III | C10: 1.7 | D10: 5.8 | E10: =C10-D10 -> -4.1 | F10: 1.2 | G10: 6.5 | H10: =F10-G10 -> -5.3
A11: 7 | B11: Hansestadt Rostock IV | C11: 2.2 | D11: 7.4 | E11: =C11-D11 -> -5.2 | F11: 1.4 | G11: 7.5 | H11: =F11-G11 -> -6.1
A12: 8 | B12: Schwerin I | C12: 0.9 | D12: 6.1 | E12: =C12-D12 -> -5.2 | F12: 1 | G12: 7.3 | H12: =F12-G12 -> -6.3
A13: 9 | B13: Schwerin II | C13: 1.6 | D13: 6.6 | E13: =C13-D13 -> -5 | F13: 0.9 | G13: 5.6 | H13: =F13-G13 -> -4.7
A14: 10 | B14: Wismar | C14: 1.6 | D14: 7.3 | E14: =C14-D14 -> -5.7 | F14: 1 | G14: 5.9 | H14: =F14-G14 -> -4.9
A15: 11 | B15: Landkreis Rostock I | C15: 1.4 | D15: 6.6 | E15: =C15-D15 -> -5.2 | F15: 1.1 | G15: 6.4 | H15: =F15-G15 -> -5.3
A16: 12 | B16: Landkreis Rostock II | C16: 2.1 | D16: 8.4 | E16: =C16-D16 -> -6.3 | F16: 1.3 | G16: 7.2 | H16: =F16-G16 -> -5.9
A17: 13 | B17: Mecklenburgische Seenplatte I – Vorpommern-Greifswald I | C17: 1.4 | D17: 4.8 | E17: =C17-D17 -> -3.4 | F17: 0.9 | G17: 4.2 | H17: =F17-G17 -> -3.3
A18: 14 | B18: Mecklenburgische Seenplatte II | C18: 0.7 | D18: 6.1 | E18: =C18-D18 -> -5.4 | F18: 0.6 | G18: 5 | H18: =F18-G18 -> -4.4
A19: 15 | B19: Landkreis Rostock III | C19: 1.8 | D19: 6 | E19: =C19-D19 -> -4.2 | F19: 1 | G19: 5.5 | H19: =F19-G19 -> -4.5
A20: 16 | B20: Landkreis Rostock IV | C20: 2.2 | D20: 7 | E20: =C20-D20 -> -4.8 | F20: 1.1 | G20: 5.5 | H20: =F20-G20 -> -4.4
A21: 17 | B21: Ludwigslust-Parchim I | C21: 1.1 | D21: 5.2 | E21: =C21-D21 -> -4.1 | F21: 0.9 | G21: 5.4 | H21: =F21-G21 -> -4.5
A22: 18 | B22: Ludwigslust-Parchim II | C22: 1.5 | D22: 7.7 | E22: =C22-D22 -> -6.2 | F22: 1 | G22: 6.3 | H22: =F22-G22 -> -5.3
A23: 19 | B23: Ludwigslust-Parchim III | C23: 1.3 | D23: 6.6 | E23: =C23-D23 -> -5.3 | F23: 0.8 | G23: 5.7 | H23: =F23-G23 -> -4.9
A24: 20 | B24: Mecklenburgische Seenplatte III | C24: 1.3 | D24: 5.8 | E24: =C24-D24 -> -4.5 | F24: 0.8 | G24: 5.5 | H24: =F24-G24 -> -4.7
A25: 21 | B25: Mecklenburgische Seenplatte IV | C25: 1.2 | D25: 5.7 | E25: =C25-D25 -> -4.5 | F25: 0.7 | G25: 5.1 | H25: =F25-G25 -> -4.4
A26: 22 | B26: Mecklenburgische Seenplatte V | C26: x | D26: 5.5 | E26: =0-D26 -> -5.5 | F26: 0.6 | G26: 5.1 | H26: =F26-G26 -> -4.5
A27: 23 | B27: Vorpommern-Rügen I | C27: 1.6 | D27: 5.2 | E27: =C27-D27 -> -3.6 | F27: 1 | G27: 5.2 | H27: =F27-G27 -> -4.2
A28: 24 | B28: Vorpommern-Rügen II – Stralsund III | C28: 1.2 | D28: 5.5 | E28: =C28-D28 -> -4.3 | F28: 0.9 | G28: 5.1 | H28: =F28-G28 -> -4.2
A29: 25 | B29: Vorpommern-Rügen III – Stralsund I | C29: 1.3 | D29: 6 | E29: =C29-D29 -> -4.7 | F29: 0.8 | G29: 5.4 | H29: =F29-G29 -> -4.6
A30: 26 | B30: Stralsund II | C30: 1.8 | D30: 9 | E30: =C30-D30 -> -7.2 | F30: 1.2 | G30: 7 | H30: =F30-G30 -> -5.8
A31: 27 | B31: Nordwestmecklenburg I | C31: 2.1 | D31: 5.1 | E31: =C31-D31 -> -3 | F31: 1.1 | G31: 5.6 | H31: =F31-G31 -> -4.5
A32: 28 | B32: Nordwestmecklenburg II | C32: 1.8 | D32: 6.2 | E32: =C32-D32 -> -4.4 | F32: 1 | G32: 5.7 | H32: =F32-G32 -> -4.7
A33: 29 | B33: Vorpommern-Greifswald II | C33: 4 | D33: 9.4 | E33: =C33-D33 -> -5.4 | F33: 1.7 | G33: 6.2 | H33: =F33-G33 -> -4.5
A34: 30 | B34: Vorpommern-Greifswald III | C34: 1.9 | D34: 5.7 | E34: =C34-D34 -> -3.8 | F34: 1.1 | G34: 5.5 | H34: =F34-G34 -> -4.4
A35: 31 | B35: Ludwigslust-Parchim IV | C35: 1.4 | D35: 5 | E35: =C35-D35 -> -3.6 | F35: 0.9 | G35: 5.1 | H35: =F35-G35 -> -4.2
A36: 32 | B36: Ludwigslust-Parchim V | C36: 1.7 | D36: 6.2 | E36: =C36-D36 -> -4.5 | F36: 1.2 | G36: 6 | H36: =F36-G36 -> -4.8
A37: 33 | B37: Vorpommern-Rügen IV | C37: 1.5 | D37: 5.2 | E37: =C37-D37 -> -3.7 | F37: 1 | G37: 5.2 | H37: =F37-G37 -> -4.2
A38: 34 | B38: Vorpommern-Rügen V | C38: 1.4 | D38: 5.9 | E38: =C38-D38 -> -4.5 | F38: 1.1 | G38: 6.1 | H38: =F38-G38 -> -5
A39: 35 | B39: Vorpommern-Greifswald IV | C39: 1.8 | D39: 4.8 | E39: =C39-D39 -> -3 | F39: 0.9 | G39: 4.4 | H39: =F39-G39 -> -3.5
A40: 36 | B40: Vorpommern-Greifswald V | C40: 1.2 | D40: 4.7 | E40: =C40-D40 -> -3.5 | F40: 0.7 | G40: 4 | H40: =F40-G40 -> -3.3
...

Sheet BSW
A1: Landtagswahlen in Mecklenburg-Vorpommern
A2: Stimmenanteile der Partei "BSW" 2026 (vorläufiges Ergebnis) nach Wahlkreisen
A3: Wahl- kreis- Nr. | B3: Land Wahlkreis | C3: Landtagswahl 2026 (vorläufig) Wahlkreis (Erststimmen) in % | D3: Landtagswahl 2021 Wahlkreis (Erststimmen) in % | E3: Veränderung Erststimmen- anteile 2026 gegenüber 2021 in %pkt. | F3: Landtagswahl 2026 (vorläufig) Wahlkreis (Zweitstimmen) in % | G3: Landtagswahl 2021 Landesliste (Zweitstimmen) in % | H3: Veränderung Zweitstimmen- anteile 2026 gegenüber 2021 in %pkt.
A4: Mecklenburg-Vorpommern | C4: 4 | D4: x | E4: x | F4: 4.8 | G4: x | H4: x
A5: 1 | B5: Greifswald | C5: 2.8 | D5: x | E5: x | F5: 3.4 | G5: x | H5: x
A6: 2 | B6: Neubrandenburg I | C6: 5.4 | D6: x | E6: x | F6: 6 | G6: x | H6: x
A7: 3 | B7: Neubrandenburg II | C7: 6.2 | D7: x | E7: x | F7: 7 | G7: x | H7: x
A8: 4 | B8: Hansestadt Rostock I | C8: 4.7 | D8: x | E8: x | F8: 5.3 | G8: x | H8: x
